Package: EventPointer Version: 3.19.0 Command: /home/biocbuild/bbs-3.23-bioc/R/bin/R CMD check --install=check:EventPointer.install-out.txt --library=/home/biocbuild/bbs-3.23-bioc/R/site-library --timings EventPointer_3.19.0.tar.gz StartedAt: 2025-10-30 05:56:54 -0400 (Thu, 30 Oct 2025) EndedAt: 2025-10-30 06:02:52 -0400 (Thu, 30 Oct 2025) EllapsedTime: 357.5 seconds RetCode: 0 Status: OK CheckDir: EventPointer.Rcheck Warnings: 0