Package: EventPointer Version: 3.19.0 Command: /home/biocbuild/bbs-3.23-bioc/R/bin/R CMD build --keep-empty-dirs --no-resave-data EventPointer StartedAt: 2025-11-05 17:36:55 -0500 (Wed, 05 Nov 2025) EndedAt: 2025-11-05 17:37:10 -0500 (Wed, 05 Nov 2025) EllapsedTime: 15.0 seconds RetCode: 1 Status: ERROR PackageFile: None PackageFileSize: NA