############################################################################## ############################################################################## ### ### Running command: ### ### /home/biocbuild/bbs-3.23-bioc/R/bin/R CMD build --keep-empty-dirs --no-resave-data EventPointer ### ############################################################################## ############################################################################## * checking for file ‘EventPointer/DESCRIPTION’ ... OK * preparing ‘EventPointer’: * checking DESCRIPTION meta-information ... OK * cleaning src * installing the package (it is needed to build vignettes) ----------------------------------- * installing *source* package ‘EventPointer’ ... ** this is package ‘EventPointer’ version ‘3.19.0’ ** using staged installation ** libs using C compiler: ‘gcc (Ubuntu 13.3.0-6ubuntu2~24.04) 13.3.0’ gcc -std=gnu2x -I"/home/biocbuild/bbs-3.23-bioc/R/include" -DNDEBUG -I/usr/local/include -fpic -g -O2 -Wall -Werror=format-security -c dgl.c -o dgl.o gcc -std=gnu2x -I"/home/biocbuild/bbs-3.23-bioc/R/include" -DNDEBUG -I/usr/local/include -fpic -g -O2 -Wall -Werror=format-security -c params.c -o params.o gcc -std=gnu2x -I"/home/biocbuild/bbs-3.23-bioc/R/include" -DNDEBUG -I/usr/local/include -fpic -g -O2 -Wall -Werror=format-security -c pgl.c -o pgl.o gcc -std=gnu2x -I"/home/biocbuild/bbs-3.23-bioc/R/include" -DNDEBUG -I/usr/local/include -fpic -g -O2 -Wall -Werror=format-security -c qdgl.c -o qdgl.o gcc -std=gnu2x -I"/home/biocbuild/bbs-3.23-bioc/R/include" -DNDEBUG -I/usr/local/include -fpic -g -O2 -Wall -Werror=format-security -c qgl.c -o qgl.o gcc -std=gnu2x -I"/home/biocbuild/bbs-3.23-bioc/R/include" -DNDEBUG -I/usr/local/include -fpic -g -O2 -Wall -Werror=format-security -c rgl.c -o rgl.o gcc -std=gnu2x -shared -L/home/biocbuild/bbs-3.23-bioc/R/lib -L/usr/local/lib -o EventPointer.so dgl.o params.o pgl.o qdgl.o qgl.o rgl.o -L/home/biocbuild/bbs-3.23-bioc/R/lib -lR installing to /tmp/RtmpeUxo7v/Rinst60932140670c5/00LOCK-EventPointer/00new/EventPointer/libs ** R ** data *** moving datasets to lazyload DB ** inst ** byte-compile and prepare package for lazy loading Error: object ‘makeTxDbFromBiomart’ is not exported by 'namespace:GenomicFeatures' Execution halted ERROR: lazy loading failed for package ‘EventPointer’ * removing ‘/tmp/RtmpeUxo7v/Rinst60932140670c5/EventPointer’ ----------------------------------- ERROR: package installation failed