Package: EpipwR Version: 1.3.1 Command: /home/biocbuild/R/R/bin/R CMD INSTALL EpipwR StartedAt: 2025-10-23 20:48:19 -0000 (Thu, 23 Oct 2025) EndedAt: 2025-10-23 20:48:38 -0000 (Thu, 23 Oct 2025) EllapsedTime: 19.5 seconds RetCode: 0 Status: OK