Package: EpipwR Version: 1.3.1 Command: /home/biocbuild/R/R/bin/R CMD build --keep-empty-dirs --no-resave-data EpipwR StartedAt: 2025-10-20 23:38:58 -0000 (Mon, 20 Oct 2025) EndedAt: 2025-10-20 23:39:25 -0000 (Mon, 20 Oct 2025) EllapsedTime: 27.0 seconds RetCode: 0 Status: OK PackageFile: EpipwR_1.3.1.tar.gz PackageFileSize: 126.9 KiB