Package: EpipwR Version: 1.5.0 Command: /home/biocbuild/bbs-3.23-bioc/R/bin/R CMD INSTALL EpipwR StartedAt: 2025-11-20 15:26:11 -0500 (Thu, 20 Nov 2025) EndedAt: 2025-11-20 15:26:25 -0500 (Thu, 20 Nov 2025) EllapsedTime: 14.1 seconds RetCode: 0 Status: OK