Package: EpipwR Version: 1.3.1 Command: /Library/Frameworks/R.framework/Resources/bin/R CMD INSTALL EpipwR StartedAt: 2025-10-09 15:23:25 -0400 (Thu, 09 Oct 2025) EndedAt: 2025-10-09 15:23:47 -0400 (Thu, 09 Oct 2025) EllapsedTime: 21.5 seconds RetCode: 0 Status: OK