Package: EpipwR Version: 1.3.1 Command: rm -rf EpipwR.buildbin-libdir && mkdir EpipwR.buildbin-libdir && /Users/biocbuild/BBS/utils/build-universal.sh EpipwR_1.3.1.tar.gz /Library/Frameworks/R.framework/Resources/bin/R EpipwR.buildbin-libdir StartedAt: 2025-10-10 02:34:10 -0400 (Fri, 10 Oct 2025) EndedAt: 2025-10-10 02:34:33 -0400 (Fri, 10 Oct 2025) EllapsedTime: 22.9 seconds RetCode: 0 Status: OK PackageFile: EpipwR_1.3.1.tgz PackageFileSize: 128.1 KiB