Package: EpipwR Version: 1.3.1 Maintainer: Jackson Barth MaintainerEmail: Jackson_Barth at Baylor.edu git_url: https://git.bioconductor.org/packages/EpipwR git_branch: devel git_last_commit: 1912819 git_last_commit_date: 2025-09-01 12:49:04 -0400 (Mon, 01 Sep 2025)