Package: EpiTxDb Version: 1.23.0 Command: /home/biocbuild/bbs-3.23-bioc/R/bin/R CMD build --keep-empty-dirs --no-resave-data EpiTxDb StartedAt: 2025-11-05 17:34:19 -0500 (Wed, 05 Nov 2025) EndedAt: 2025-11-05 17:37:18 -0500 (Wed, 05 Nov 2025) EllapsedTime: 179.1 seconds RetCode: 1 Status: ERROR PackageFile: None PackageFileSize: NA