Package: EpiTxDb Version: 1.21.2 Command: /Library/Frameworks/R.framework/Resources/bin/R CMD INSTALL EpiTxDb StartedAt: 2025-10-16 16:04:09 -0400 (Thu, 16 Oct 2025) EndedAt: 2025-10-16 16:05:11 -0400 (Thu, 16 Oct 2025) EllapsedTime: 61.9 seconds RetCode: 0 Status: OK