Package: EpiTxDb Version: 1.21.2 Command: /Library/Frameworks/R.framework/Resources/bin/R CMD build --keep-empty-dirs --no-resave-data EpiTxDb StartedAt: 2025-10-17 17:07:50 -0400 (Fri, 17 Oct 2025) EndedAt: 2025-10-17 17:12:15 -0400 (Fri, 17 Oct 2025) EllapsedTime: 264.6 seconds RetCode: 0 Status: OK PackageFile: EpiTxDb_1.21.2.tar.gz PackageFileSize: 779.5 KiB