Package: EpiTxDb Version: 1.21.2 Command: /Library/Frameworks/R.framework/Resources/bin/R CMD INSTALL EpiTxDb StartedAt: 2025-10-09 15:22:15 -0400 (Thu, 09 Oct 2025) EndedAt: 2025-10-09 15:22:33 -0400 (Thu, 09 Oct 2025) EllapsedTime: 17.9 seconds RetCode: 0 Status: OK