Package: EpiTxDb Version: 1.21.2 Command: /Library/Frameworks/R.framework/Resources/bin/R CMD build --keep-empty-dirs --no-resave-data EpiTxDb StartedAt: 2025-10-09 16:20:15 -0400 (Thu, 09 Oct 2025) EndedAt: 2025-10-09 16:21:29 -0400 (Thu, 09 Oct 2025) EllapsedTime: 73.8 seconds RetCode: 0 Status: OK PackageFile: EpiTxDb_1.21.2.tar.gz PackageFileSize: 779.6 KiB