Package: EpiTxDb Version: 1.21.2 Command: rm -rf EpiTxDb.buildbin-libdir && mkdir EpiTxDb.buildbin-libdir && /Users/biocbuild/BBS/utils/build-universal.sh EpiTxDb_1.21.2.tar.gz /Library/Frameworks/R.framework/Resources/bin/R EpiTxDb.buildbin-libdir StartedAt: 2025-10-10 22:40:29 -0400 (Fri, 10 Oct 2025) EndedAt: 2025-10-10 22:40:48 -0400 (Fri, 10 Oct 2025) EllapsedTime: 19.4 seconds RetCode: 0 Status: OK PackageFile: EpiTxDb_1.21.2.tgz PackageFileSize: 1.684 MiB