Package: EpiMix Version: 1.13.0 Command: /home/biocbuild/bbs-3.23-bioc/R/bin/R CMD INSTALL EpiMix StartedAt: 2025-11-20 15:39:17 -0500 (Thu, 20 Nov 2025) EndedAt: 2025-11-20 15:40:00 -0500 (Thu, 20 Nov 2025) EllapsedTime: 42.7 seconds RetCode: 0 Status: OK