Package: EpiMix Version: 1.13.0 Command: /home/biocbuild/bbs-3.23-bioc/R/bin/R CMD build --keep-empty-dirs --no-resave-data EpiMix StartedAt: 2025-11-20 17:30:52 -0500 (Thu, 20 Nov 2025) EndedAt: 2025-11-20 17:37:47 -0500 (Thu, 20 Nov 2025) EllapsedTime: 414.4 seconds RetCode: 0 Status: OK PackageFile: EpiMix_1.13.0.tar.gz PackageFileSize: 2.834 MiB