Package: EpiMix Version: 1.13.0 Command: /Library/Frameworks/R.framework/Resources/bin/R CMD INSTALL EpiMix StartedAt: 2025-11-20 15:40:16 -0500 (Thu, 20 Nov 2025) EndedAt: 2025-11-20 15:41:13 -0500 (Thu, 20 Nov 2025) EllapsedTime: 56.7 seconds RetCode: 0 Status: OK