Package: EpiMix Version: 1.13.0 Command: /Library/Frameworks/R.framework/Resources/bin/R CMD build --keep-empty-dirs --no-resave-data EpiMix StartedAt: 2025-11-20 16:56:35 -0500 (Thu, 20 Nov 2025) EndedAt: 2025-11-20 17:11:13 -0500 (Thu, 20 Nov 2025) EllapsedTime: 878.1 seconds RetCode: 0 Status: OK PackageFile: EpiMix_1.13.0.tar.gz PackageFileSize: 2.893 MiB