Package: EpiMix Version: 1.13.0 Command: rm -rf EpiMix.buildbin-libdir && mkdir EpiMix.buildbin-libdir && /Users/biocbuild/BBS/utils/build-universal.sh EpiMix_1.13.0.tar.gz /Library/Frameworks/R.framework/Resources/bin/R EpiMix.buildbin-libdir StartedAt: 2025-11-21 01:32:49 -0500 (Fri, 21 Nov 2025) EndedAt: 2025-11-21 01:33:50 -0500 (Fri, 21 Nov 2025) EllapsedTime: 61.3 seconds RetCode: 0 Status: OK PackageFile: EpiMix_1.13.0.tgz PackageFileSize: 2.346 MiB