Package: EpiMix Version: 1.13.0 Command: /Library/Frameworks/R.framework/Resources/bin/R CMD build --keep-empty-dirs --no-resave-data EpiMix StartedAt: 2025-11-20 16:17:38 -0500 (Thu, 20 Nov 2025) EndedAt: 2025-11-20 16:21:29 -0500 (Thu, 20 Nov 2025) EllapsedTime: 230.5 seconds RetCode: 0 Status: OK PackageFile: EpiMix_1.13.0.tar.gz PackageFileSize: 2.903 MiB