Package: EpiMix Version: 1.13.0 Command: rm -rf EpiMix.buildbin-libdir && mkdir EpiMix.buildbin-libdir && /Users/biocbuild/BBS/utils/build-universal.sh EpiMix_1.13.0.tar.gz /Library/Frameworks/R.framework/Resources/bin/R EpiMix.buildbin-libdir StartedAt: 2025-11-20 23:32:32 -0500 (Thu, 20 Nov 2025) EndedAt: 2025-11-20 23:32:53 -0500 (Thu, 20 Nov 2025) EllapsedTime: 21.5 seconds RetCode: 0 Status: OK PackageFile: EpiMix_1.13.0.tgz PackageFileSize: 2.36 MiB