Package: EpiDISH Version: 2.27.0 Command: /home/biocbuild/bbs-3.23-bioc/R/bin/R CMD INSTALL EpiDISH StartedAt: 2025-11-20 15:04:52 -0500 (Thu, 20 Nov 2025) EndedAt: 2025-11-20 15:04:57 -0500 (Thu, 20 Nov 2025) EllapsedTime: 5.1 seconds RetCode: 0 Status: OK