Package: EpiDISH Version: 2.27.0 Command: /home/biocbuild/bbs-3.23-bioc/R/bin/R CMD build --keep-empty-dirs --no-resave-data EpiDISH StartedAt: 2025-11-20 17:30:48 -0500 (Thu, 20 Nov 2025) EndedAt: 2025-11-20 17:31:03 -0500 (Thu, 20 Nov 2025) EllapsedTime: 15.0 seconds RetCode: 0 Status: OK PackageFile: EpiDISH_2.27.0.tar.gz PackageFileSize: 3.116 MiB