Package: EpiDISH Version: 2.25.0 Command: rm -rf EpiDISH.buildbin-libdir && mkdir EpiDISH.buildbin-libdir && /Users/biocbuild/BBS/utils/build-universal.sh EpiDISH_2.25.0.tar.gz /Library/Frameworks/R.framework/Resources/bin/R EpiDISH.buildbin-libdir StartedAt: 2025-10-24 01:33:20 -0400 (Fri, 24 Oct 2025) EndedAt: 2025-10-24 01:33:31 -0400 (Fri, 24 Oct 2025) EllapsedTime: 11.5 seconds RetCode: 0 Status: OK PackageFile: EpiDISH_2.25.0.tgz PackageFileSize: 2.113 MiB