Package: EpiDISH Version: 2.25.0 Command: /Library/Frameworks/R.framework/Resources/bin/R CMD INSTALL EpiDISH StartedAt: 2025-10-05 15:03:23 -0400 (Sun, 05 Oct 2025) EndedAt: 2025-10-05 15:03:26 -0400 (Sun, 05 Oct 2025) EllapsedTime: 3.1 seconds RetCode: 0 Status: OK