Package: EpiDISH Version: 2.25.0 Command: /Library/Frameworks/R.framework/Resources/bin/R CMD build --keep-empty-dirs --no-resave-data EpiDISH StartedAt: 2025-10-05 16:20:18 -0400 (Sun, 05 Oct 2025) EndedAt: 2025-10-05 16:20:25 -0400 (Sun, 05 Oct 2025) EllapsedTime: 7.1 seconds RetCode: 0 Status: OK PackageFile: EpiDISH_2.25.0.tar.gz PackageFileSize: 3.1 MiB