Package: EpiCompare Version: 1.14.0 Command: /Library/Frameworks/R.framework/Resources/bin/R CMD INSTALL EpiCompare StartedAt: 2025-10-29 22:34:25 -0400 (Wed, 29 Oct 2025) EndedAt: 2025-10-29 22:35:24 -0400 (Wed, 29 Oct 2025) EllapsedTime: 59.0 seconds RetCode: 0 Status: OK