Package: EpiCompare Version: 1.13.2 Command: /Library/Frameworks/R.framework/Resources/bin/R CMD build --keep-empty-dirs --no-resave-data EpiCompare StartedAt: 2025-10-28 16:55:08 -0400 (Tue, 28 Oct 2025) EndedAt: 2025-10-28 16:56:50 -0400 (Tue, 28 Oct 2025) EllapsedTime: 101.8 seconds RetCode: 0 Status: OK PackageFile: EpiCompare_1.13.2.tar.gz PackageFileSize: 1.872 MiB