Package: EpiCompare Version: 1.13.2 Command: rm -rf EpiCompare.buildbin-libdir && mkdir EpiCompare.buildbin-libdir && /Users/biocbuild/BBS/utils/build-universal.sh EpiCompare_1.13.2.tar.gz /Library/Frameworks/R.framework/Resources/bin/R EpiCompare.buildbin-libdir StartedAt: 2025-10-29 01:33:48 -0400 (Wed, 29 Oct 2025) EndedAt: 2025-10-29 01:34:59 -0400 (Wed, 29 Oct 2025) EllapsedTime: 70.4 seconds RetCode: 0 Status: OK PackageFile: EpiCompare_1.13.2.tgz PackageFileSize: 1.658 MiB