Package: EpiCompare Version: 1.13.2 Command: /Library/Frameworks/R.framework/Resources/bin/R CMD INSTALL EpiCompare StartedAt: 2025-10-17 15:31:46 -0400 (Fri, 17 Oct 2025) EndedAt: 2025-10-17 15:32:07 -0400 (Fri, 17 Oct 2025) EllapsedTime: 20.4 seconds RetCode: 0 Status: OK