Package: EpiCompare Version: 1.13.2 Command: /Library/Frameworks/R.framework/Resources/bin/R CMD build --keep-empty-dirs --no-resave-data EpiCompare StartedAt: 2025-10-17 16:18:49 -0400 (Fri, 17 Oct 2025) EndedAt: 2025-10-17 16:19:21 -0400 (Fri, 17 Oct 2025) EllapsedTime: 31.3 seconds RetCode: 0 Status: OK PackageFile: EpiCompare_1.13.2.tar.gz PackageFileSize: 1.873 MiB