Package: EnrichmentBrowser Version: 2.39.2 Command: /home/biocbuild/R/R/bin/R CMD INSTALL EnrichmentBrowser StartedAt: 2025-10-13 21:48:02 -0000 (Mon, 13 Oct 2025) EndedAt: 2025-10-13 21:48:44 -0000 (Mon, 13 Oct 2025) EllapsedTime: 42.3 seconds RetCode: 0 Status: OK