Package: EnrichmentBrowser Version: 2.39.2 Command: /home/biocbuild/R/R/bin/R CMD build --keep-empty-dirs --no-resave-data EnrichmentBrowser StartedAt: 2025-10-14 00:03:41 -0000 (Tue, 14 Oct 2025) EndedAt: 2025-10-14 00:06:11 -0000 (Tue, 14 Oct 2025) EllapsedTime: 150.1 seconds RetCode: 0 Status: OK PackageFile: EnrichmentBrowser_2.39.2.tar.gz PackageFileSize: 1.358 MiB