Package: EnrichmentBrowser Version: 2.39.2 Command: /home/biocbuild/bbs-3.22-bioc/R/bin/R CMD check --install=check:EnrichmentBrowser.install-out.txt --library=/home/biocbuild/bbs-3.22-bioc/R/site-library --timings EnrichmentBrowser_2.39.2.tar.gz StartedAt: 2025-10-09 23:39:25 -0400 (Thu, 09 Oct 2025) EndedAt: 2025-10-09 23:55:42 -0400 (Thu, 09 Oct 2025) EllapsedTime: 976.9 seconds RetCode: 0 Status: OK CheckDir: EnrichmentBrowser.Rcheck Warnings: 0