Package: EnrichmentBrowser Version: 2.41.0 Command: /home/biocbuild/bbs-3.23-bioc/R/bin/R CMD INSTALL EnrichmentBrowser StartedAt: 2025-11-04 15:57:35 -0500 (Tue, 04 Nov 2025) EndedAt: 2025-11-04 15:58:07 -0500 (Tue, 04 Nov 2025) EllapsedTime: 31.8 seconds RetCode: 0 Status: OK