Package: EnrichedHeatmap Version: 1.39.1 Command: /home/biocbuild/R/R/bin/R CMD INSTALL EnrichedHeatmap StartedAt: 2025-10-13 20:50:15 -0000 (Mon, 13 Oct 2025) EndedAt: 2025-10-13 20:50:38 -0000 (Mon, 13 Oct 2025) EllapsedTime: 22.8 seconds RetCode: 0 Status: OK