Package: EnrichedHeatmap Version: 1.39.1 Command: /home/biocbuild/R/R/bin/R CMD build --keep-empty-dirs --no-resave-data EnrichedHeatmap StartedAt: 2025-10-14 00:03:31 -0000 (Tue, 14 Oct 2025) EndedAt: 2025-10-14 00:10:05 -0000 (Tue, 14 Oct 2025) EllapsedTime: 394.1 seconds RetCode: 0 Status: OK PackageFile: EnrichedHeatmap_1.39.1.tar.gz PackageFileSize: 9.659 MiB