Package: EnrichedHeatmap Version: 1.39.1 Command: /home/biocbuild/bbs-3.22-bioc/R/bin/R CMD check --install=check:EnrichedHeatmap.install-out.txt --library=/home/biocbuild/bbs-3.22-bioc/R/site-library --timings EnrichedHeatmap_1.39.1.tar.gz StartedAt: 2025-10-06 23:36:27 -0400 (Mon, 06 Oct 2025) EndedAt: 2025-10-06 23:44:25 -0400 (Mon, 06 Oct 2025) EllapsedTime: 477.4 seconds RetCode: 0 Status: OK CheckDir: EnrichedHeatmap.Rcheck Warnings: 0