Package: EnrichedHeatmap Version: 1.41.0 Command: /home/biocbuild/bbs-3.23-bioc/R/bin/R CMD INSTALL EnrichedHeatmap StartedAt: 2025-11-06 15:14:23 -0500 (Thu, 06 Nov 2025) EndedAt: 2025-11-06 15:14:40 -0500 (Thu, 06 Nov 2025) EllapsedTime: 16.3 seconds RetCode: 0 Status: OK