Package: EnrichedHeatmap Version: 1.41.0 Command: /home/biocbuild/bbs-3.23-bioc/R/bin/R CMD build --keep-empty-dirs --no-resave-data EnrichedHeatmap StartedAt: 2025-11-06 17:24:38 -0500 (Thu, 06 Nov 2025) EndedAt: 2025-11-06 17:29:54 -0500 (Thu, 06 Nov 2025) EllapsedTime: 315.3 seconds RetCode: 0 Status: OK PackageFile: EnrichedHeatmap_1.41.0.tar.gz PackageFileSize: 11.62 MiB