Package: EnrichDO Version: 1.5.0 Command: /home/biocbuild/bbs-3.23-bioc/R/bin/R CMD INSTALL EnrichDO StartedAt: 2025-11-07 15:15:14 -0500 (Fri, 07 Nov 2025) EndedAt: 2025-11-07 15:15:26 -0500 (Fri, 07 Nov 2025) EllapsedTime: 11.3 seconds RetCode: 0 Status: OK