Package: EnrichDO Version: 1.5.0 Command: /home/biocbuild/bbs-3.23-bioc/R/bin/R CMD build --keep-empty-dirs --no-resave-data EnrichDO StartedAt: 2025-11-07 17:25:28 -0500 (Fri, 07 Nov 2025) EndedAt: 2025-11-07 17:26:33 -0500 (Fri, 07 Nov 2025) EllapsedTime: 65.2 seconds RetCode: 0 Status: OK PackageFile: EnrichDO_1.5.0.tar.gz PackageFileSize: 2.507 MiB