Package: EnrichDO Version: 1.3.1 Command: /Library/Frameworks/R.framework/Resources/bin/R CMD INSTALL EnrichDO StartedAt: 2025-10-09 15:33:11 -0400 (Thu, 09 Oct 2025) EndedAt: 2025-10-09 15:33:30 -0400 (Thu, 09 Oct 2025) EllapsedTime: 19.2 seconds RetCode: 0 Status: OK