Package: EnrichDO Version: 1.3.1 Command: /Library/Frameworks/R.framework/Resources/bin/R CMD build --keep-empty-dirs --no-resave-data EnrichDO StartedAt: 2025-10-09 16:57:33 -0400 (Thu, 09 Oct 2025) EndedAt: 2025-10-09 16:59:07 -0400 (Thu, 09 Oct 2025) EllapsedTime: 93.8 seconds RetCode: 0 Status: OK PackageFile: EnrichDO_1.3.1.tar.gz PackageFileSize: 2.561 MiB