Package: EnrichDO Version: 1.3.1 Command: rm -rf EnrichDO.buildbin-libdir && mkdir EnrichDO.buildbin-libdir && /Users/biocbuild/BBS/utils/build-universal.sh EnrichDO_1.3.1.tar.gz /Library/Frameworks/R.framework/Resources/bin/R EnrichDO.buildbin-libdir StartedAt: 2025-10-10 02:33:54 -0400 (Fri, 10 Oct 2025) EndedAt: 2025-10-10 02:34:16 -0400 (Fri, 10 Oct 2025) EllapsedTime: 22.1 seconds RetCode: 0 Status: OK PackageFile: EnrichDO_1.3.1.tgz PackageFileSize: 3.505 MiB