Package: EnrichDO Version: 1.3.1 Maintainer: Hongyu Fu MaintainerEmail: 2287531995 at qq.com git_url: https://git.bioconductor.org/packages/EnrichDO git_branch: devel git_last_commit: 0da128f git_last_commit_date: 2025-10-04 01:57:08 -0400 (Sat, 04 Oct 2025)