Package: EnhancedVolcano Version: 1.29.0 Command: /home/biocbuild/bbs-3.23-bioc/R/bin/R CMD INSTALL EnhancedVolcano StartedAt: 2025-11-02 15:14:06 -0500 (Sun, 02 Nov 2025) EndedAt: 2025-11-02 15:14:15 -0500 (Sun, 02 Nov 2025) EllapsedTime: 9.0 seconds RetCode: 0 Status: OK