Package: EnhancedVolcano Version: 1.29.0 Command: /home/biocbuild/bbs-3.23-bioc/R/bin/R CMD build --keep-empty-dirs --no-resave-data EnhancedVolcano StartedAt: 2025-11-03 17:23:06 -0500 (Mon, 03 Nov 2025) EndedAt: 2025-11-03 17:24:45 -0500 (Mon, 03 Nov 2025) EllapsedTime: 99.1 seconds RetCode: 0 Status: OK PackageFile: EnhancedVolcano_1.29.0.tar.gz PackageFileSize: 9.416 MiB