Package: EnhancedVolcano Version: 1.27.0 Command: /Library/Frameworks/R.framework/Resources/bin/R CMD INSTALL EnhancedVolcano StartedAt: 2025-10-05 15:10:14 -0400 (Sun, 05 Oct 2025) EndedAt: 2025-10-05 15:10:55 -0400 (Sun, 05 Oct 2025) EllapsedTime: 41.4 seconds RetCode: 0 Status: OK